BEGIN:VCALENDAR
VERSION:2.0
PRODID:-//Bungay Community Support - ECPv6.15.20//NONSGML v1.0//EN
CALSCALE:GREGORIAN
METHOD:PUBLISH
X-WR-CALNAME:Bungay Community Support
X-ORIGINAL-URL:https://bungaycommunitysupport.org.uk
X-WR-CALDESC:Events for Bungay Community Support
REFRESH-INTERVAL;VALUE=DURATION:PT1H
X-Robots-Tag:noindex
X-PUBLISHED-TTL:PT1H
BEGIN:VTIMEZONE
TZID:Europe/London
BEGIN:DAYLIGHT
TZOFFSETFROM:+0000
TZOFFSETTO:+0100
TZNAME:BST
DTSTART:20250330T010000
END:DAYLIGHT
BEGIN:STANDARD
TZOFFSETFROM:+0100
TZOFFSETTO:+0000
TZNAME:GMT
DTSTART:20251026T010000
END:STANDARD
BEGIN:DAYLIGHT
TZOFFSETFROM:+0000
TZOFFSETTO:+0100
TZNAME:BST
DTSTART:20260329T010000
END:DAYLIGHT
BEGIN:STANDARD
TZOFFSETFROM:+0100
TZOFFSETTO:+0000
TZNAME:GMT
DTSTART:20261025T010000
END:STANDARD
BEGIN:DAYLIGHT
TZOFFSETFROM:+0000
TZOFFSETTO:+0100
TZNAME:BST
DTSTART:20270328T010000
END:DAYLIGHT
BEGIN:STANDARD
TZOFFSETFROM:+0100
TZOFFSETTO:+0000
TZNAME:GMT
DTSTART:20271031T010000
END:STANDARD
END:VTIMEZONE
BEGIN:VEVENT
DTSTART;TZID=Europe/London:20260305T100000
DTEND;TZID=Europe/London:20260305T120000
DTSTAMP:20260422T111150
CREATED:20250507T211343Z
LAST-MODIFIED:20260108T164117Z
UID:10006239-1772704800-1772712000@bungaycommunitysupport.org.uk
SUMMARY:Help with Money - Financial Inclusion Team
DESCRIPTION:Come and meet the Financial Inclusion Team from East Suffolk Council for a friendly\, impartial chat about money. \nWe can look at increasing your income and reducing your bills\, applying for grants and dealing with debt\, or anything else that’s worrying you about money. \nWe can also do benefits checks and help with benefits applications.
URL:https://bungaycommunitysupport.org.uk/event/help-with-money/2026-03-05
CATEGORIES:Outreach
END:VEVENT
BEGIN:VEVENT
DTSTART;TZID=Europe/London:20260305T100000
DTEND;TZID=Europe/London:20260305T140000
DTSTAMP:20260422T111150
CREATED:20250919T193741Z
LAST-MODIFIED:20260121T112016Z
UID:10004393-1772704800-1772719200@bungaycommunitysupport.org.uk
SUMMARY:Community Crafts & Cafe+
DESCRIPTION:Join us for Cake\, Cuppa\, Company & Crafts! \nBring your own craft projects\, whether it’s knitting\, cross-stitch\, drawing\, or any other creative endeavor and enjoy the company of fellow crafters\, Bacon rolls & Fresh cakes\n& free tech support from Ryan between 11am – 1pm.
URL:https://bungaycommunitysupport.org.uk/event/community-crafts-cafe-2-2/2026-03-05
CATEGORIES:The Hub
END:VEVENT
BEGIN:VEVENT
DTSTART;TZID=Europe/London:20260305T100000
DTEND;TZID=Europe/London:20260305T140000
DTSTAMP:20260422T111150
CREATED:20251106T110019Z
LAST-MODIFIED:20251126T185354Z
UID:10005072-1772704800-1772719200@bungaycommunitysupport.org.uk
SUMMARY:Warm Welcomes
DESCRIPTION:Thursday – Toasted Snacks or Soup & Roll & Hot drinks \nWe invite you to come in to meet with others\, have free refreshments\, and join in friendly company. There are books\, board games\,\njigsaws and other activities to enjoy. We can provide information about other support available if needed.
URL:https://bungaycommunitysupport.org.uk/event/warm-welcomes-3/2026-03-05
CATEGORIES:The Hub
END:VEVENT
BEGIN:VEVENT
DTSTART;TZID=Europe/London:20260305T110000
DTEND;TZID=Europe/London:20260305T130000
DTSTAMP:20260422T111150
CREATED:20250919T193742Z
LAST-MODIFIED:20260121T111944Z
UID:10004115-1772708400-1772715600@bungaycommunitysupport.org.uk
SUMMARY:Understanding IT
DESCRIPTION:Do you need some help or advice with using your mobile phone\, tablet or laptop? \nIf so\, why not pop along to our Understanding IT Sessions where our tech-wizz Ryan can help you out! \nGet one-on-one support to become familiar with your devices\, from accessing the internet to spotting scam emails. \nWhether you’re a beginner or need help with a specific issue\, come in & ask for Ryan. \nNo need to book
URL:https://bungaycommunitysupport.org.uk/event/understanding-it-2-2/2026-03-05
CATEGORIES:The Hub
END:VEVENT
BEGIN:VEVENT
DTSTART;TZID=Europe/London:20260305T130000
DTEND;TZID=Europe/London:20260305T150000
DTSTAMP:20260422T111150
CREATED:20260121T115212Z
LAST-MODIFIED:20260121T115212Z
UID:10006250-1772715600-1772722800@bungaycommunitysupport.org.uk
SUMMARY:Bingo
DESCRIPTION:Enjoy a welcoming\, relaxed bingo session filled with lighthearted fun\, friendly chatter\, and a simple light lunch of warm soup and a fresh roll to round off the day.
URL:https://bungaycommunitysupport.org.uk/event/bingo
CATEGORIES:Events & Activities
END:VEVENT
END:VCALENDAR