BEGIN:VCALENDAR
VERSION:2.0
PRODID:-//Bungay Community Support - ECPv6.15.20//NONSGML v1.0//EN
CALSCALE:GREGORIAN
METHOD:PUBLISH
X-ORIGINAL-URL:https://bungaycommunitysupport.org.uk
X-WR-CALDESC:Events for Bungay Community Support
REFRESH-INTERVAL;VALUE=DURATION:PT1H
X-Robots-Tag:noindex
X-PUBLISHED-TTL:PT1H
BEGIN:VTIMEZONE
TZID:Europe/London
BEGIN:DAYLIGHT
TZOFFSETFROM:+0000
TZOFFSETTO:+0100
TZNAME:BST
DTSTART:20280326T010000
END:DAYLIGHT
BEGIN:STANDARD
TZOFFSETFROM:+0100
TZOFFSETTO:+0000
TZNAME:GMT
DTSTART:20281029T010000
END:STANDARD
BEGIN:DAYLIGHT
TZOFFSETFROM:+0000
TZOFFSETTO:+0100
TZNAME:BST
DTSTART:20290325T010000
END:DAYLIGHT
BEGIN:STANDARD
TZOFFSETFROM:+0100
TZOFFSETTO:+0000
TZNAME:GMT
DTSTART:20291028T010000
END:STANDARD
BEGIN:DAYLIGHT
TZOFFSETFROM:+0000
TZOFFSETTO:+0100
TZNAME:BST
DTSTART:20300331T010000
END:DAYLIGHT
BEGIN:STANDARD
TZOFFSETFROM:+0100
TZOFFSETTO:+0000
TZNAME:GMT
DTSTART:20301027T010000
END:STANDARD
BEGIN:DAYLIGHT
TZOFFSETFROM:+0000
TZOFFSETTO:+0100
TZNAME:BST
DTSTART:20310330T010000
END:DAYLIGHT
BEGIN:STANDARD
TZOFFSETFROM:+0100
TZOFFSETTO:+0000
TZNAME:GMT
DTSTART:20311026T010000
END:STANDARD
END:VTIMEZONE
BEGIN:VEVENT
DTSTART;TZID=Europe/London:20290524T130000
DTEND;TZID=Europe/London:20290524T150000
DTSTAMP:20260423T192500
CREATED:20260205T105109Z
LAST-MODIFIED:20260205T105109Z
UID:10006439-1874322000-1874329200@bungaycommunitysupport.org.uk
SUMMARY:Games & Jigsaws
DESCRIPTION:
URL:https://bungaycommunitysupport.org.uk/event/games-jigsaws-2/2029-05-24
CATEGORIES:Events & Activities
END:VEVENT
BEGIN:VEVENT
DTSTART;TZID=Europe/London:20290614T130000
DTEND;TZID=Europe/London:20290614T150000
DTSTAMP:20260423T192500
CREATED:20260205T104948Z
LAST-MODIFIED:20260205T104948Z
UID:10006322-1876136400-1876143600@bungaycommunitysupport.org.uk
SUMMARY:Games & Jigsaws
DESCRIPTION:
URL:https://bungaycommunitysupport.org.uk/event/games-jigsaws/2029-06-14
CATEGORIES:Events & Activities
END:VEVENT
BEGIN:VEVENT
DTSTART;TZID=Europe/London:20290626T110000
DTEND;TZID=Europe/London:20290626T120000
DTSTAMP:20260423T192500
CREATED:20250701T113058Z
LAST-MODIFIED:20250701T124156Z
UID:10003813-1877166000-1877169600@bungaycommunitysupport.org.uk
SUMMARY:Access Well-being walk
DESCRIPTION:Access Well-being walk with Jade Drinkwater
URL:https://bungaycommunitysupport.org.uk/event/access-well-being-walk/2029-06-26
CATEGORIES:Events & Activities
END:VEVENT
BEGIN:VEVENT
DTSTART;TZID=Europe/London:20290628T130000
DTEND;TZID=Europe/London:20290628T150000
DTSTAMP:20260423T192500
CREATED:20260205T105109Z
LAST-MODIFIED:20260205T105109Z
UID:10006440-1877346000-1877353200@bungaycommunitysupport.org.uk
SUMMARY:Games & Jigsaws
DESCRIPTION:
URL:https://bungaycommunitysupport.org.uk/event/games-jigsaws-2/2029-06-28
CATEGORIES:Events & Activities
END:VEVENT
BEGIN:VEVENT
DTSTART;TZID=Europe/London:20290712T130000
DTEND;TZID=Europe/London:20290712T150000
DTSTAMP:20260423T192500
CREATED:20260205T104948Z
LAST-MODIFIED:20260205T104948Z
UID:10006323-1878555600-1878562800@bungaycommunitysupport.org.uk
SUMMARY:Games & Jigsaws
DESCRIPTION:
URL:https://bungaycommunitysupport.org.uk/event/games-jigsaws/2029-07-12
CATEGORIES:Events & Activities
END:VEVENT
BEGIN:VEVENT
DTSTART;TZID=Europe/London:20290724T110000
DTEND;TZID=Europe/London:20290724T120000
DTSTAMP:20260423T192500
CREATED:20250701T113058Z
LAST-MODIFIED:20250701T124156Z
UID:10003814-1879585200-1879588800@bungaycommunitysupport.org.uk
SUMMARY:Access Well-being walk
DESCRIPTION:Access Well-being walk with Jade Drinkwater
URL:https://bungaycommunitysupport.org.uk/event/access-well-being-walk/2029-07-24
CATEGORIES:Events & Activities
END:VEVENT
BEGIN:VEVENT
DTSTART;TZID=Europe/London:20290726T130000
DTEND;TZID=Europe/London:20290726T150000
DTSTAMP:20260423T192500
CREATED:20260205T105109Z
LAST-MODIFIED:20260205T105109Z
UID:10006441-1879765200-1879772400@bungaycommunitysupport.org.uk
SUMMARY:Games & Jigsaws
DESCRIPTION:
URL:https://bungaycommunitysupport.org.uk/event/games-jigsaws-2/2029-07-26
CATEGORIES:Events & Activities
END:VEVENT
BEGIN:VEVENT
DTSTART;TZID=Europe/London:20290809T130000
DTEND;TZID=Europe/London:20290809T150000
DTSTAMP:20260423T192500
CREATED:20260205T104948Z
LAST-MODIFIED:20260205T104948Z
UID:10006324-1880974800-1880982000@bungaycommunitysupport.org.uk
SUMMARY:Games & Jigsaws
DESCRIPTION:
URL:https://bungaycommunitysupport.org.uk/event/games-jigsaws/2029-08-09
CATEGORIES:Events & Activities
END:VEVENT
BEGIN:VEVENT
DTSTART;TZID=Europe/London:20290823T130000
DTEND;TZID=Europe/London:20290823T150000
DTSTAMP:20260423T192500
CREATED:20260205T105109Z
LAST-MODIFIED:20260205T105109Z
UID:10006442-1882184400-1882191600@bungaycommunitysupport.org.uk
SUMMARY:Games & Jigsaws
DESCRIPTION:
URL:https://bungaycommunitysupport.org.uk/event/games-jigsaws-2/2029-08-23
CATEGORIES:Events & Activities
END:VEVENT
BEGIN:VEVENT
DTSTART;TZID=Europe/London:20290828T110000
DTEND;TZID=Europe/London:20290828T120000
DTSTAMP:20260423T192500
CREATED:20250701T113058Z
LAST-MODIFIED:20250701T124156Z
UID:10003815-1882609200-1882612800@bungaycommunitysupport.org.uk
SUMMARY:Access Well-being walk
DESCRIPTION:Access Well-being walk with Jade Drinkwater
URL:https://bungaycommunitysupport.org.uk/event/access-well-being-walk/2029-08-28
CATEGORIES:Events & Activities
END:VEVENT
BEGIN:VEVENT
DTSTART;TZID=Europe/London:20290913T130000
DTEND;TZID=Europe/London:20290913T150000
DTSTAMP:20260423T192500
CREATED:20260205T104948Z
LAST-MODIFIED:20260205T104948Z
UID:10006325-1883998800-1884006000@bungaycommunitysupport.org.uk
SUMMARY:Games & Jigsaws
DESCRIPTION:
URL:https://bungaycommunitysupport.org.uk/event/games-jigsaws/2029-09-13
CATEGORIES:Events & Activities
END:VEVENT
BEGIN:VEVENT
DTSTART;TZID=Europe/London:20290925T110000
DTEND;TZID=Europe/London:20290925T120000
DTSTAMP:20260423T192500
CREATED:20250701T113058Z
LAST-MODIFIED:20250701T124156Z
UID:10003816-1885028400-1885032000@bungaycommunitysupport.org.uk
SUMMARY:Access Well-being walk
DESCRIPTION:Access Well-being walk with Jade Drinkwater
URL:https://bungaycommunitysupport.org.uk/event/access-well-being-walk/2029-09-25
CATEGORIES:Events & Activities
END:VEVENT
BEGIN:VEVENT
DTSTART;TZID=Europe/London:20290927T130000
DTEND;TZID=Europe/London:20290927T150000
DTSTAMP:20260423T192500
CREATED:20260205T105109Z
LAST-MODIFIED:20260205T105109Z
UID:10006443-1885208400-1885215600@bungaycommunitysupport.org.uk
SUMMARY:Games & Jigsaws
DESCRIPTION:
URL:https://bungaycommunitysupport.org.uk/event/games-jigsaws-2/2029-09-27
CATEGORIES:Events & Activities
END:VEVENT
BEGIN:VEVENT
DTSTART;TZID=Europe/London:20291011T130000
DTEND;TZID=Europe/London:20291011T150000
DTSTAMP:20260423T192500
CREATED:20260205T104948Z
LAST-MODIFIED:20260205T104948Z
UID:10006326-1886418000-1886425200@bungaycommunitysupport.org.uk
SUMMARY:Games & Jigsaws
DESCRIPTION:
URL:https://bungaycommunitysupport.org.uk/event/games-jigsaws/2029-10-11
CATEGORIES:Events & Activities
END:VEVENT
BEGIN:VEVENT
DTSTART;TZID=Europe/London:20291023T110000
DTEND;TZID=Europe/London:20291023T120000
DTSTAMP:20260423T192500
CREATED:20250701T113058Z
LAST-MODIFIED:20250701T124156Z
UID:10003817-1887447600-1887451200@bungaycommunitysupport.org.uk
SUMMARY:Access Well-being walk
DESCRIPTION:Access Well-being walk with Jade Drinkwater
URL:https://bungaycommunitysupport.org.uk/event/access-well-being-walk/2029-10-23
CATEGORIES:Events & Activities
END:VEVENT
BEGIN:VEVENT
DTSTART;TZID=Europe/London:20291025T130000
DTEND;TZID=Europe/London:20291025T150000
DTSTAMP:20260423T192500
CREATED:20260205T105109Z
LAST-MODIFIED:20260205T105109Z
UID:10006444-1887627600-1887634800@bungaycommunitysupport.org.uk
SUMMARY:Games & Jigsaws
DESCRIPTION:
URL:https://bungaycommunitysupport.org.uk/event/games-jigsaws-2/2029-10-25
CATEGORIES:Events & Activities
END:VEVENT
BEGIN:VEVENT
DTSTART;TZID=Europe/London:20291108T130000
DTEND;TZID=Europe/London:20291108T150000
DTSTAMP:20260423T192500
CREATED:20260205T104948Z
LAST-MODIFIED:20260205T104948Z
UID:10006327-1888837200-1888844400@bungaycommunitysupport.org.uk
SUMMARY:Games & Jigsaws
DESCRIPTION:
URL:https://bungaycommunitysupport.org.uk/event/games-jigsaws/2029-11-08
CATEGORIES:Events & Activities
END:VEVENT
BEGIN:VEVENT
DTSTART;TZID=Europe/London:20291122T130000
DTEND;TZID=Europe/London:20291122T150000
DTSTAMP:20260423T192500
CREATED:20260205T105109Z
LAST-MODIFIED:20260205T105109Z
UID:10006445-1890046800-1890054000@bungaycommunitysupport.org.uk
SUMMARY:Games & Jigsaws
DESCRIPTION:
URL:https://bungaycommunitysupport.org.uk/event/games-jigsaws-2/2029-11-22
CATEGORIES:Events & Activities
END:VEVENT
BEGIN:VEVENT
DTSTART;TZID=Europe/London:20291127T110000
DTEND;TZID=Europe/London:20291127T120000
DTSTAMP:20260423T192500
CREATED:20250701T113058Z
LAST-MODIFIED:20250701T124156Z
UID:10003818-1890471600-1890475200@bungaycommunitysupport.org.uk
SUMMARY:Access Well-being walk
DESCRIPTION:Access Well-being walk with Jade Drinkwater
URL:https://bungaycommunitysupport.org.uk/event/access-well-being-walk/2029-11-27
CATEGORIES:Events & Activities
END:VEVENT
BEGIN:VEVENT
DTSTART;TZID=Europe/London:20291213T130000
DTEND;TZID=Europe/London:20291213T150000
DTSTAMP:20260423T192500
CREATED:20260205T104948Z
LAST-MODIFIED:20260205T104948Z
UID:10006328-1891861200-1891868400@bungaycommunitysupport.org.uk
SUMMARY:Games & Jigsaws
DESCRIPTION:
URL:https://bungaycommunitysupport.org.uk/event/games-jigsaws/2029-12-13
CATEGORIES:Events & Activities
END:VEVENT
BEGIN:VEVENT
DTSTART;TZID=Europe/London:20291225T110000
DTEND;TZID=Europe/London:20291225T120000
DTSTAMP:20260423T192500
CREATED:20250701T113058Z
LAST-MODIFIED:20250701T124156Z
UID:10003819-1892890800-1892894400@bungaycommunitysupport.org.uk
SUMMARY:Access Well-being walk
DESCRIPTION:Access Well-being walk with Jade Drinkwater
URL:https://bungaycommunitysupport.org.uk/event/access-well-being-walk/2029-12-25
CATEGORIES:Events & Activities
END:VEVENT
BEGIN:VEVENT
DTSTART;TZID=Europe/London:20291227T130000
DTEND;TZID=Europe/London:20291227T150000
DTSTAMP:20260423T192500
CREATED:20260205T105109Z
LAST-MODIFIED:20260205T105109Z
UID:10006446-1893070800-1893078000@bungaycommunitysupport.org.uk
SUMMARY:Games & Jigsaws
DESCRIPTION:
URL:https://bungaycommunitysupport.org.uk/event/games-jigsaws-2/2029-12-27
CATEGORIES:Events & Activities
END:VEVENT
BEGIN:VEVENT
DTSTART;TZID=Europe/London:20300110T130000
DTEND;TZID=Europe/London:20300110T150000
DTSTAMP:20260423T192500
CREATED:20260205T104948Z
LAST-MODIFIED:20260205T104948Z
UID:10006329-1894280400-1894287600@bungaycommunitysupport.org.uk
SUMMARY:Games & Jigsaws
DESCRIPTION:
URL:https://bungaycommunitysupport.org.uk/event/games-jigsaws/2030-01-10
CATEGORIES:Events & Activities
END:VEVENT
BEGIN:VEVENT
DTSTART;TZID=Europe/London:20300122T110000
DTEND;TZID=Europe/London:20300122T120000
DTSTAMP:20260423T192500
CREATED:20250701T113058Z
LAST-MODIFIED:20250701T124156Z
UID:10003820-1895310000-1895313600@bungaycommunitysupport.org.uk
SUMMARY:Access Well-being walk
DESCRIPTION:Access Well-being walk with Jade Drinkwater
URL:https://bungaycommunitysupport.org.uk/event/access-well-being-walk/2030-01-22
CATEGORIES:Events & Activities
END:VEVENT
BEGIN:VEVENT
DTSTART;TZID=Europe/London:20300124T130000
DTEND;TZID=Europe/London:20300124T150000
DTSTAMP:20260423T192500
CREATED:20260205T105109Z
LAST-MODIFIED:20260205T105109Z
UID:10006447-1895490000-1895497200@bungaycommunitysupport.org.uk
SUMMARY:Games & Jigsaws
DESCRIPTION:
URL:https://bungaycommunitysupport.org.uk/event/games-jigsaws-2/2030-01-24
CATEGORIES:Events & Activities
END:VEVENT
BEGIN:VEVENT
DTSTART;TZID=Europe/London:20300214T130000
DTEND;TZID=Europe/London:20300214T150000
DTSTAMP:20260423T192500
CREATED:20260205T104948Z
LAST-MODIFIED:20260205T104948Z
UID:10006330-1897304400-1897311600@bungaycommunitysupport.org.uk
SUMMARY:Games & Jigsaws
DESCRIPTION:
URL:https://bungaycommunitysupport.org.uk/event/games-jigsaws/2030-02-14
CATEGORIES:Events & Activities
END:VEVENT
BEGIN:VEVENT
DTSTART;TZID=Europe/London:20300226T110000
DTEND;TZID=Europe/London:20300226T120000
DTSTAMP:20260423T192500
CREATED:20250701T113058Z
LAST-MODIFIED:20250701T124156Z
UID:10003821-1898334000-1898337600@bungaycommunitysupport.org.uk
SUMMARY:Access Well-being walk
DESCRIPTION:Access Well-being walk with Jade Drinkwater
URL:https://bungaycommunitysupport.org.uk/event/access-well-being-walk/2030-02-26
CATEGORIES:Events & Activities
END:VEVENT
BEGIN:VEVENT
DTSTART;TZID=Europe/London:20300228T130000
DTEND;TZID=Europe/London:20300228T150000
DTSTAMP:20260423T192500
CREATED:20260205T105109Z
LAST-MODIFIED:20260205T105109Z
UID:10006448-1898514000-1898521200@bungaycommunitysupport.org.uk
SUMMARY:Games & Jigsaws
DESCRIPTION:
URL:https://bungaycommunitysupport.org.uk/event/games-jigsaws-2/2030-02-28
CATEGORIES:Events & Activities
END:VEVENT
BEGIN:VEVENT
DTSTART;TZID=Europe/London:20300314T130000
DTEND;TZID=Europe/London:20300314T150000
DTSTAMP:20260423T192500
CREATED:20260205T104948Z
LAST-MODIFIED:20260205T104948Z
UID:10006331-1899723600-1899730800@bungaycommunitysupport.org.uk
SUMMARY:Games & Jigsaws
DESCRIPTION:
URL:https://bungaycommunitysupport.org.uk/event/games-jigsaws/2030-03-14
CATEGORIES:Events & Activities
END:VEVENT
BEGIN:VEVENT
DTSTART;TZID=Europe/London:20300326T110000
DTEND;TZID=Europe/London:20300326T120000
DTSTAMP:20260423T192500
CREATED:20250701T113058Z
LAST-MODIFIED:20250701T124156Z
UID:10003822-1900753200-1900756800@bungaycommunitysupport.org.uk
SUMMARY:Access Well-being walk
DESCRIPTION:Access Well-being walk with Jade Drinkwater
URL:https://bungaycommunitysupport.org.uk/event/access-well-being-walk/2030-03-26
CATEGORIES:Events & Activities
END:VEVENT
END:VCALENDAR