BEGIN:VCALENDAR
VERSION:2.0
PRODID:-//Bungay Community Support - ECPv6.15.20//NONSGML v1.0//EN
CALSCALE:GREGORIAN
METHOD:PUBLISH
X-ORIGINAL-URL:https://bungaycommunitysupport.org.uk
X-WR-CALDESC:Events for Bungay Community Support
REFRESH-INTERVAL;VALUE=DURATION:PT1H
X-Robots-Tag:noindex
X-PUBLISHED-TTL:PT1H
BEGIN:VTIMEZONE
TZID:Europe/London
BEGIN:DAYLIGHT
TZOFFSETFROM:+0000
TZOFFSETTO:+0100
TZNAME:BST
DTSTART:20290325T010000
END:DAYLIGHT
BEGIN:STANDARD
TZOFFSETFROM:+0100
TZOFFSETTO:+0000
TZNAME:GMT
DTSTART:20291028T010000
END:STANDARD
BEGIN:DAYLIGHT
TZOFFSETFROM:+0000
TZOFFSETTO:+0100
TZNAME:BST
DTSTART:20300331T010000
END:DAYLIGHT
BEGIN:STANDARD
TZOFFSETFROM:+0100
TZOFFSETTO:+0000
TZNAME:GMT
DTSTART:20301027T010000
END:STANDARD
BEGIN:DAYLIGHT
TZOFFSETFROM:+0000
TZOFFSETTO:+0100
TZNAME:BST
DTSTART:20310330T010000
END:DAYLIGHT
BEGIN:STANDARD
TZOFFSETFROM:+0100
TZOFFSETTO:+0000
TZNAME:GMT
DTSTART:20311026T010000
END:STANDARD
END:VTIMEZONE
BEGIN:VEVENT
DTSTART;TZID=Europe/London:20300110T130000
DTEND;TZID=Europe/London:20300110T150000
DTSTAMP:20260423T192522
CREATED:20260205T104948Z
LAST-MODIFIED:20260205T104948Z
UID:10006329-1894280400-1894287600@bungaycommunitysupport.org.uk
SUMMARY:Games & Jigsaws
DESCRIPTION:
URL:https://bungaycommunitysupport.org.uk/event/games-jigsaws/2030-01-10
CATEGORIES:Events & Activities
END:VEVENT
BEGIN:VEVENT
DTSTART;TZID=Europe/London:20300122T110000
DTEND;TZID=Europe/London:20300122T120000
DTSTAMP:20260423T192522
CREATED:20250701T113058Z
LAST-MODIFIED:20250701T124156Z
UID:10003820-1895310000-1895313600@bungaycommunitysupport.org.uk
SUMMARY:Access Well-being walk
DESCRIPTION:Access Well-being walk with Jade Drinkwater
URL:https://bungaycommunitysupport.org.uk/event/access-well-being-walk/2030-01-22
CATEGORIES:Events & Activities
END:VEVENT
BEGIN:VEVENT
DTSTART;TZID=Europe/London:20300124T130000
DTEND;TZID=Europe/London:20300124T150000
DTSTAMP:20260423T192522
CREATED:20260205T105109Z
LAST-MODIFIED:20260205T105109Z
UID:10006447-1895490000-1895497200@bungaycommunitysupport.org.uk
SUMMARY:Games & Jigsaws
DESCRIPTION:
URL:https://bungaycommunitysupport.org.uk/event/games-jigsaws-2/2030-01-24
CATEGORIES:Events & Activities
END:VEVENT
BEGIN:VEVENT
DTSTART;TZID=Europe/London:20300214T130000
DTEND;TZID=Europe/London:20300214T150000
DTSTAMP:20260423T192522
CREATED:20260205T104948Z
LAST-MODIFIED:20260205T104948Z
UID:10006330-1897304400-1897311600@bungaycommunitysupport.org.uk
SUMMARY:Games & Jigsaws
DESCRIPTION:
URL:https://bungaycommunitysupport.org.uk/event/games-jigsaws/2030-02-14
CATEGORIES:Events & Activities
END:VEVENT
BEGIN:VEVENT
DTSTART;TZID=Europe/London:20300226T110000
DTEND;TZID=Europe/London:20300226T120000
DTSTAMP:20260423T192522
CREATED:20250701T113058Z
LAST-MODIFIED:20250701T124156Z
UID:10003821-1898334000-1898337600@bungaycommunitysupport.org.uk
SUMMARY:Access Well-being walk
DESCRIPTION:Access Well-being walk with Jade Drinkwater
URL:https://bungaycommunitysupport.org.uk/event/access-well-being-walk/2030-02-26
CATEGORIES:Events & Activities
END:VEVENT
BEGIN:VEVENT
DTSTART;TZID=Europe/London:20300228T130000
DTEND;TZID=Europe/London:20300228T150000
DTSTAMP:20260423T192522
CREATED:20260205T105109Z
LAST-MODIFIED:20260205T105109Z
UID:10006448-1898514000-1898521200@bungaycommunitysupport.org.uk
SUMMARY:Games & Jigsaws
DESCRIPTION:
URL:https://bungaycommunitysupport.org.uk/event/games-jigsaws-2/2030-02-28
CATEGORIES:Events & Activities
END:VEVENT
BEGIN:VEVENT
DTSTART;TZID=Europe/London:20300314T130000
DTEND;TZID=Europe/London:20300314T150000
DTSTAMP:20260423T192522
CREATED:20260205T104948Z
LAST-MODIFIED:20260205T104948Z
UID:10006331-1899723600-1899730800@bungaycommunitysupport.org.uk
SUMMARY:Games & Jigsaws
DESCRIPTION:
URL:https://bungaycommunitysupport.org.uk/event/games-jigsaws/2030-03-14
CATEGORIES:Events & Activities
END:VEVENT
BEGIN:VEVENT
DTSTART;TZID=Europe/London:20300326T110000
DTEND;TZID=Europe/London:20300326T120000
DTSTAMP:20260423T192522
CREATED:20250701T113058Z
LAST-MODIFIED:20250701T124156Z
UID:10003822-1900753200-1900756800@bungaycommunitysupport.org.uk
SUMMARY:Access Well-being walk
DESCRIPTION:Access Well-being walk with Jade Drinkwater
URL:https://bungaycommunitysupport.org.uk/event/access-well-being-walk/2030-03-26
CATEGORIES:Events & Activities
END:VEVENT
BEGIN:VEVENT
DTSTART;TZID=Europe/London:20300328T130000
DTEND;TZID=Europe/London:20300328T150000
DTSTAMP:20260423T192522
CREATED:20260205T105109Z
LAST-MODIFIED:20260205T105109Z
UID:10006449-1900933200-1900940400@bungaycommunitysupport.org.uk
SUMMARY:Games & Jigsaws
DESCRIPTION:
URL:https://bungaycommunitysupport.org.uk/event/games-jigsaws-2/2030-03-28
CATEGORIES:Events & Activities
END:VEVENT
BEGIN:VEVENT
DTSTART;TZID=Europe/London:20300411T130000
DTEND;TZID=Europe/London:20300411T150000
DTSTAMP:20260423T192522
CREATED:20260205T104948Z
LAST-MODIFIED:20260205T104948Z
UID:10006332-1902142800-1902150000@bungaycommunitysupport.org.uk
SUMMARY:Games & Jigsaws
DESCRIPTION:
URL:https://bungaycommunitysupport.org.uk/event/games-jigsaws/2030-04-11
CATEGORIES:Events & Activities
END:VEVENT
BEGIN:VEVENT
DTSTART;TZID=Europe/London:20300423T110000
DTEND;TZID=Europe/London:20300423T120000
DTSTAMP:20260423T192522
CREATED:20250701T113058Z
LAST-MODIFIED:20250701T124156Z
UID:10003823-1903172400-1903176000@bungaycommunitysupport.org.uk
SUMMARY:Access Well-being walk
DESCRIPTION:Access Well-being walk with Jade Drinkwater
URL:https://bungaycommunitysupport.org.uk/event/access-well-being-walk/2030-04-23
CATEGORIES:Events & Activities
END:VEVENT
BEGIN:VEVENT
DTSTART;TZID=Europe/London:20300425T130000
DTEND;TZID=Europe/London:20300425T150000
DTSTAMP:20260423T192522
CREATED:20260205T105109Z
LAST-MODIFIED:20260205T105109Z
UID:10006450-1903352400-1903359600@bungaycommunitysupport.org.uk
SUMMARY:Games & Jigsaws
DESCRIPTION:
URL:https://bungaycommunitysupport.org.uk/event/games-jigsaws-2/2030-04-25
CATEGORIES:Events & Activities
END:VEVENT
BEGIN:VEVENT
DTSTART;TZID=Europe/London:20300509T130000
DTEND;TZID=Europe/London:20300509T150000
DTSTAMP:20260423T192522
CREATED:20260205T104948Z
LAST-MODIFIED:20260205T104948Z
UID:10006333-1904562000-1904569200@bungaycommunitysupport.org.uk
SUMMARY:Games & Jigsaws
DESCRIPTION:
URL:https://bungaycommunitysupport.org.uk/event/games-jigsaws/2030-05-09
CATEGORIES:Events & Activities
END:VEVENT
BEGIN:VEVENT
DTSTART;TZID=Europe/London:20300523T130000
DTEND;TZID=Europe/London:20300523T150000
DTSTAMP:20260423T192522
CREATED:20260205T105109Z
LAST-MODIFIED:20260205T105109Z
UID:10006451-1905771600-1905778800@bungaycommunitysupport.org.uk
SUMMARY:Games & Jigsaws
DESCRIPTION:
URL:https://bungaycommunitysupport.org.uk/event/games-jigsaws-2/2030-05-23
CATEGORIES:Events & Activities
END:VEVENT
BEGIN:VEVENT
DTSTART;TZID=Europe/London:20300528T110000
DTEND;TZID=Europe/London:20300528T120000
DTSTAMP:20260423T192522
CREATED:20250701T113058Z
LAST-MODIFIED:20250701T124156Z
UID:10003824-1906196400-1906200000@bungaycommunitysupport.org.uk
SUMMARY:Access Well-being walk
DESCRIPTION:Access Well-being walk with Jade Drinkwater
URL:https://bungaycommunitysupport.org.uk/event/access-well-being-walk/2030-05-28
CATEGORIES:Events & Activities
END:VEVENT
BEGIN:VEVENT
DTSTART;TZID=Europe/London:20300613T130000
DTEND;TZID=Europe/London:20300613T150000
DTSTAMP:20260423T192522
CREATED:20260205T104948Z
LAST-MODIFIED:20260205T104948Z
UID:10006334-1907586000-1907593200@bungaycommunitysupport.org.uk
SUMMARY:Games & Jigsaws
DESCRIPTION:
URL:https://bungaycommunitysupport.org.uk/event/games-jigsaws/2030-06-13
CATEGORIES:Events & Activities
END:VEVENT
BEGIN:VEVENT
DTSTART;TZID=Europe/London:20300625T110000
DTEND;TZID=Europe/London:20300625T120000
DTSTAMP:20260423T192522
CREATED:20250701T113058Z
LAST-MODIFIED:20250701T124156Z
UID:10003825-1908615600-1908619200@bungaycommunitysupport.org.uk
SUMMARY:Access Well-being walk
DESCRIPTION:Access Well-being walk with Jade Drinkwater
URL:https://bungaycommunitysupport.org.uk/event/access-well-being-walk/2030-06-25
CATEGORIES:Events & Activities
END:VEVENT
BEGIN:VEVENT
DTSTART;TZID=Europe/London:20300627T130000
DTEND;TZID=Europe/London:20300627T150000
DTSTAMP:20260423T192522
CREATED:20260205T105109Z
LAST-MODIFIED:20260205T105109Z
UID:10006452-1908795600-1908802800@bungaycommunitysupport.org.uk
SUMMARY:Games & Jigsaws
DESCRIPTION:
URL:https://bungaycommunitysupport.org.uk/event/games-jigsaws-2/2030-06-27
CATEGORIES:Events & Activities
END:VEVENT
BEGIN:VEVENT
DTSTART;TZID=Europe/London:20300711T130000
DTEND;TZID=Europe/London:20300711T150000
DTSTAMP:20260423T192522
CREATED:20260205T104948Z
LAST-MODIFIED:20260205T104948Z
UID:10006335-1910005200-1910012400@bungaycommunitysupport.org.uk
SUMMARY:Games & Jigsaws
DESCRIPTION:
URL:https://bungaycommunitysupport.org.uk/event/games-jigsaws/2030-07-11
CATEGORIES:Events & Activities
END:VEVENT
BEGIN:VEVENT
DTSTART;TZID=Europe/London:20300723T110000
DTEND;TZID=Europe/London:20300723T120000
DTSTAMP:20260423T192522
CREATED:20250701T113058Z
LAST-MODIFIED:20250701T124156Z
UID:10004837-1911034800-1911038400@bungaycommunitysupport.org.uk
SUMMARY:Access Well-being walk
DESCRIPTION:Access Well-being walk with Jade Drinkwater
URL:https://bungaycommunitysupport.org.uk/event/access-well-being-walk/2030-07-23
CATEGORIES:Events & Activities
END:VEVENT
BEGIN:VEVENT
DTSTART;TZID=Europe/London:20300725T130000
DTEND;TZID=Europe/London:20300725T150000
DTSTAMP:20260423T192522
CREATED:20260205T105109Z
LAST-MODIFIED:20260205T105109Z
UID:10006453-1911214800-1911222000@bungaycommunitysupport.org.uk
SUMMARY:Games & Jigsaws
DESCRIPTION:
URL:https://bungaycommunitysupport.org.uk/event/games-jigsaws-2/2030-07-25
CATEGORIES:Events & Activities
END:VEVENT
BEGIN:VEVENT
DTSTART;TZID=Europe/London:20300808T130000
DTEND;TZID=Europe/London:20300808T150000
DTSTAMP:20260423T192522
CREATED:20260205T104948Z
LAST-MODIFIED:20260205T104948Z
UID:10006336-1912424400-1912431600@bungaycommunitysupport.org.uk
SUMMARY:Games & Jigsaws
DESCRIPTION:
URL:https://bungaycommunitysupport.org.uk/event/games-jigsaws/2030-08-08
CATEGORIES:Events & Activities
END:VEVENT
BEGIN:VEVENT
DTSTART;TZID=Europe/London:20300822T130000
DTEND;TZID=Europe/London:20300822T150000
DTSTAMP:20260423T192522
CREATED:20260205T105109Z
LAST-MODIFIED:20260205T105109Z
UID:10006454-1913634000-1913641200@bungaycommunitysupport.org.uk
SUMMARY:Games & Jigsaws
DESCRIPTION:
URL:https://bungaycommunitysupport.org.uk/event/games-jigsaws-2/2030-08-22
CATEGORIES:Events & Activities
END:VEVENT
BEGIN:VEVENT
DTSTART;TZID=Europe/London:20300827T110000
DTEND;TZID=Europe/London:20300827T120000
DTSTAMP:20260423T192522
CREATED:20250701T113058Z
LAST-MODIFIED:20250701T124156Z
UID:10004838-1914058800-1914062400@bungaycommunitysupport.org.uk
SUMMARY:Access Well-being walk
DESCRIPTION:Access Well-being walk with Jade Drinkwater
URL:https://bungaycommunitysupport.org.uk/event/access-well-being-walk/2030-08-27
CATEGORIES:Events & Activities
END:VEVENT
BEGIN:VEVENT
DTSTART;TZID=Europe/London:20300912T130000
DTEND;TZID=Europe/London:20300912T150000
DTSTAMP:20260423T192522
CREATED:20260205T104948Z
LAST-MODIFIED:20260205T104948Z
UID:10006337-1915448400-1915455600@bungaycommunitysupport.org.uk
SUMMARY:Games & Jigsaws
DESCRIPTION:
URL:https://bungaycommunitysupport.org.uk/event/games-jigsaws/2030-09-12
CATEGORIES:Events & Activities
END:VEVENT
BEGIN:VEVENT
DTSTART;TZID=Europe/London:20300924T110000
DTEND;TZID=Europe/London:20300924T120000
DTSTAMP:20260423T192522
CREATED:20250701T113058Z
LAST-MODIFIED:20250701T124156Z
UID:10004839-1916478000-1916481600@bungaycommunitysupport.org.uk
SUMMARY:Access Well-being walk
DESCRIPTION:Access Well-being walk with Jade Drinkwater
URL:https://bungaycommunitysupport.org.uk/event/access-well-being-walk/2030-09-24
CATEGORIES:Events & Activities
END:VEVENT
BEGIN:VEVENT
DTSTART;TZID=Europe/London:20300926T130000
DTEND;TZID=Europe/London:20300926T150000
DTSTAMP:20260423T192522
CREATED:20260205T105109Z
LAST-MODIFIED:20260205T105109Z
UID:10006455-1916658000-1916665200@bungaycommunitysupport.org.uk
SUMMARY:Games & Jigsaws
DESCRIPTION:
URL:https://bungaycommunitysupport.org.uk/event/games-jigsaws-2/2030-09-26
CATEGORIES:Events & Activities
END:VEVENT
BEGIN:VEVENT
DTSTART;TZID=Europe/London:20301010T130000
DTEND;TZID=Europe/London:20301010T150000
DTSTAMP:20260423T192522
CREATED:20260205T104948Z
LAST-MODIFIED:20260205T104948Z
UID:10006338-1917867600-1917874800@bungaycommunitysupport.org.uk
SUMMARY:Games & Jigsaws
DESCRIPTION:
URL:https://bungaycommunitysupport.org.uk/event/games-jigsaws/2030-10-10
CATEGORIES:Events & Activities
END:VEVENT
BEGIN:VEVENT
DTSTART;TZID=Europe/London:20301022T110000
DTEND;TZID=Europe/London:20301022T120000
DTSTAMP:20260423T192522
CREATED:20250701T113058Z
LAST-MODIFIED:20250701T124156Z
UID:10004840-1918897200-1918900800@bungaycommunitysupport.org.uk
SUMMARY:Access Well-being walk
DESCRIPTION:Access Well-being walk with Jade Drinkwater
URL:https://bungaycommunitysupport.org.uk/event/access-well-being-walk/2030-10-22
CATEGORIES:Events & Activities
END:VEVENT
BEGIN:VEVENT
DTSTART;TZID=Europe/London:20301024T130000
DTEND;TZID=Europe/London:20301024T150000
DTSTAMP:20260423T192522
CREATED:20260205T105109Z
LAST-MODIFIED:20260205T105109Z
UID:10006456-1919077200-1919084400@bungaycommunitysupport.org.uk
SUMMARY:Games & Jigsaws
DESCRIPTION:
URL:https://bungaycommunitysupport.org.uk/event/games-jigsaws-2/2030-10-24
CATEGORIES:Events & Activities
END:VEVENT
END:VCALENDAR