BEGIN:VCALENDAR
VERSION:2.0
PRODID:-//Bungay Community Support - ECPv6.15.20//NONSGML v1.0//EN
CALSCALE:GREGORIAN
METHOD:PUBLISH
X-ORIGINAL-URL:https://bungaycommunitysupport.org.uk
X-WR-CALDESC:Events for Bungay Community Support
REFRESH-INTERVAL;VALUE=DURATION:PT1H
X-Robots-Tag:noindex
X-PUBLISHED-TTL:PT1H
BEGIN:VTIMEZONE
TZID:Europe/London
BEGIN:DAYLIGHT
TZOFFSETFROM:+0000
TZOFFSETTO:+0100
TZNAME:BST
DTSTART:20290325T010000
END:DAYLIGHT
BEGIN:STANDARD
TZOFFSETFROM:+0100
TZOFFSETTO:+0000
TZNAME:GMT
DTSTART:20291028T010000
END:STANDARD
BEGIN:DAYLIGHT
TZOFFSETFROM:+0000
TZOFFSETTO:+0100
TZNAME:BST
DTSTART:20300331T010000
END:DAYLIGHT
BEGIN:STANDARD
TZOFFSETFROM:+0100
TZOFFSETTO:+0000
TZNAME:GMT
DTSTART:20301027T010000
END:STANDARD
BEGIN:DAYLIGHT
TZOFFSETFROM:+0000
TZOFFSETTO:+0100
TZNAME:BST
DTSTART:20310330T010000
END:DAYLIGHT
BEGIN:STANDARD
TZOFFSETFROM:+0100
TZOFFSETTO:+0000
TZNAME:GMT
DTSTART:20311026T010000
END:STANDARD
BEGIN:DAYLIGHT
TZOFFSETFROM:+0000
TZOFFSETTO:+0100
TZNAME:BST
DTSTART:20320328T010000
END:DAYLIGHT
BEGIN:STANDARD
TZOFFSETFROM:+0100
TZOFFSETTO:+0000
TZNAME:GMT
DTSTART:20321031T010000
END:STANDARD
END:VTIMEZONE
BEGIN:VEVENT
DTSTART;TZID=Europe/London:20300912T130000
DTEND;TZID=Europe/London:20300912T150000
DTSTAMP:20260423T221634
CREATED:20260205T104948Z
LAST-MODIFIED:20260205T104948Z
UID:10006337-1915448400-1915455600@bungaycommunitysupport.org.uk
SUMMARY:Games & Jigsaws
DESCRIPTION:
URL:https://bungaycommunitysupport.org.uk/event/games-jigsaws/2030-09-12
CATEGORIES:Events & Activities
END:VEVENT
BEGIN:VEVENT
DTSTART;TZID=Europe/London:20300924T110000
DTEND;TZID=Europe/London:20300924T120000
DTSTAMP:20260423T221634
CREATED:20250701T113058Z
LAST-MODIFIED:20250701T124156Z
UID:10004839-1916478000-1916481600@bungaycommunitysupport.org.uk
SUMMARY:Access Well-being walk
DESCRIPTION:Access Well-being walk with Jade Drinkwater
URL:https://bungaycommunitysupport.org.uk/event/access-well-being-walk/2030-09-24
CATEGORIES:Events & Activities
END:VEVENT
BEGIN:VEVENT
DTSTART;TZID=Europe/London:20300926T130000
DTEND;TZID=Europe/London:20300926T150000
DTSTAMP:20260423T221634
CREATED:20260205T105109Z
LAST-MODIFIED:20260205T105109Z
UID:10006455-1916658000-1916665200@bungaycommunitysupport.org.uk
SUMMARY:Games & Jigsaws
DESCRIPTION:
URL:https://bungaycommunitysupport.org.uk/event/games-jigsaws-2/2030-09-26
CATEGORIES:Events & Activities
END:VEVENT
BEGIN:VEVENT
DTSTART;TZID=Europe/London:20301010T130000
DTEND;TZID=Europe/London:20301010T150000
DTSTAMP:20260423T221634
CREATED:20260205T104948Z
LAST-MODIFIED:20260205T104948Z
UID:10006338-1917867600-1917874800@bungaycommunitysupport.org.uk
SUMMARY:Games & Jigsaws
DESCRIPTION:
URL:https://bungaycommunitysupport.org.uk/event/games-jigsaws/2030-10-10
CATEGORIES:Events & Activities
END:VEVENT
BEGIN:VEVENT
DTSTART;TZID=Europe/London:20301022T110000
DTEND;TZID=Europe/London:20301022T120000
DTSTAMP:20260423T221634
CREATED:20250701T113058Z
LAST-MODIFIED:20250701T124156Z
UID:10004840-1918897200-1918900800@bungaycommunitysupport.org.uk
SUMMARY:Access Well-being walk
DESCRIPTION:Access Well-being walk with Jade Drinkwater
URL:https://bungaycommunitysupport.org.uk/event/access-well-being-walk/2030-10-22
CATEGORIES:Events & Activities
END:VEVENT
BEGIN:VEVENT
DTSTART;TZID=Europe/London:20301024T130000
DTEND;TZID=Europe/London:20301024T150000
DTSTAMP:20260423T221634
CREATED:20260205T105109Z
LAST-MODIFIED:20260205T105109Z
UID:10006456-1919077200-1919084400@bungaycommunitysupport.org.uk
SUMMARY:Games & Jigsaws
DESCRIPTION:
URL:https://bungaycommunitysupport.org.uk/event/games-jigsaws-2/2030-10-24
CATEGORIES:Events & Activities
END:VEVENT
BEGIN:VEVENT
DTSTART;TZID=Europe/London:20301114T130000
DTEND;TZID=Europe/London:20301114T150000
DTSTAMP:20260423T221634
CREATED:20260205T104948Z
LAST-MODIFIED:20260205T104948Z
UID:10006339-1920891600-1920898800@bungaycommunitysupport.org.uk
SUMMARY:Games & Jigsaws
DESCRIPTION:
URL:https://bungaycommunitysupport.org.uk/event/games-jigsaws/2030-11-14
CATEGORIES:Events & Activities
END:VEVENT
BEGIN:VEVENT
DTSTART;TZID=Europe/London:20301126T110000
DTEND;TZID=Europe/London:20301126T120000
DTSTAMP:20260423T221634
CREATED:20250701T113058Z
LAST-MODIFIED:20250701T124156Z
UID:10005484-1921921200-1921924800@bungaycommunitysupport.org.uk
SUMMARY:Access Well-being walk
DESCRIPTION:Access Well-being walk with Jade Drinkwater
URL:https://bungaycommunitysupport.org.uk/event/access-well-being-walk/2030-11-26
CATEGORIES:Events & Activities
END:VEVENT
BEGIN:VEVENT
DTSTART;TZID=Europe/London:20301128T130000
DTEND;TZID=Europe/London:20301128T150000
DTSTAMP:20260423T221634
CREATED:20260205T105109Z
LAST-MODIFIED:20260205T105109Z
UID:10006457-1922101200-1922108400@bungaycommunitysupport.org.uk
SUMMARY:Games & Jigsaws
DESCRIPTION:
URL:https://bungaycommunitysupport.org.uk/event/games-jigsaws-2/2030-11-28
CATEGORIES:Events & Activities
END:VEVENT
BEGIN:VEVENT
DTSTART;TZID=Europe/London:20301212T130000
DTEND;TZID=Europe/London:20301212T150000
DTSTAMP:20260423T221634
CREATED:20260205T104948Z
LAST-MODIFIED:20260205T104948Z
UID:10006340-1923310800-1923318000@bungaycommunitysupport.org.uk
SUMMARY:Games & Jigsaws
DESCRIPTION:
URL:https://bungaycommunitysupport.org.uk/event/games-jigsaws/2030-12-12
CATEGORIES:Events & Activities
END:VEVENT
BEGIN:VEVENT
DTSTART;TZID=Europe/London:20301224T110000
DTEND;TZID=Europe/London:20301224T120000
DTSTAMP:20260423T221634
CREATED:20250701T113058Z
LAST-MODIFIED:20250701T124156Z
UID:10006274-1924340400-1924344000@bungaycommunitysupport.org.uk
SUMMARY:Access Well-being walk
DESCRIPTION:Access Well-being walk with Jade Drinkwater
URL:https://bungaycommunitysupport.org.uk/event/access-well-being-walk/2030-12-24
CATEGORIES:Events & Activities
END:VEVENT
BEGIN:VEVENT
DTSTART;TZID=Europe/London:20301226T130000
DTEND;TZID=Europe/London:20301226T150000
DTSTAMP:20260423T221634
CREATED:20260205T105109Z
LAST-MODIFIED:20260205T105109Z
UID:10006458-1924520400-1924527600@bungaycommunitysupport.org.uk
SUMMARY:Games & Jigsaws
DESCRIPTION:
URL:https://bungaycommunitysupport.org.uk/event/games-jigsaws-2/2030-12-26
CATEGORIES:Events & Activities
END:VEVENT
BEGIN:VEVENT
DTSTART;TZID=Europe/London:20310109T130000
DTEND;TZID=Europe/London:20310109T150000
DTSTAMP:20260423T221634
CREATED:20260205T104948Z
LAST-MODIFIED:20260205T104948Z
UID:10006341-1925730000-1925737200@bungaycommunitysupport.org.uk
SUMMARY:Games & Jigsaws
DESCRIPTION:
URL:https://bungaycommunitysupport.org.uk/event/games-jigsaws/2031-01-09
CATEGORIES:Events & Activities
END:VEVENT
BEGIN:VEVENT
DTSTART;TZID=Europe/London:20310123T130000
DTEND;TZID=Europe/London:20310123T150000
DTSTAMP:20260423T221634
CREATED:20260205T105109Z
LAST-MODIFIED:20260205T105109Z
UID:10006459-1926939600-1926946800@bungaycommunitysupport.org.uk
SUMMARY:Games & Jigsaws
DESCRIPTION:
URL:https://bungaycommunitysupport.org.uk/event/games-jigsaws-2/2031-01-23
CATEGORIES:Events & Activities
END:VEVENT
BEGIN:VEVENT
DTSTART;TZID=Europe/London:20310128T110000
DTEND;TZID=Europe/London:20310128T120000
DTSTAMP:20260423T221634
CREATED:20250701T113058Z
LAST-MODIFIED:20250701T124156Z
UID:10006275-1927364400-1927368000@bungaycommunitysupport.org.uk
SUMMARY:Access Well-being walk
DESCRIPTION:Access Well-being walk with Jade Drinkwater
URL:https://bungaycommunitysupport.org.uk/event/access-well-being-walk/2031-01-28
CATEGORIES:Events & Activities
END:VEVENT
BEGIN:VEVENT
DTSTART;TZID=Europe/London:20310225T110000
DTEND;TZID=Europe/London:20310225T120000
DTSTAMP:20260423T221634
CREATED:20250701T113058Z
LAST-MODIFIED:20250701T124156Z
UID:10006487-1929783600-1929787200@bungaycommunitysupport.org.uk
SUMMARY:Access Well-being walk
DESCRIPTION:Access Well-being walk with Jade Drinkwater
URL:https://bungaycommunitysupport.org.uk/event/access-well-being-walk/2031-02-25
CATEGORIES:Events & Activities
END:VEVENT
END:VCALENDAR