BEGIN:VCALENDAR
VERSION:2.0
PRODID:-//Bungay Community Support - ECPv6.15.20//NONSGML v1.0//EN
CALSCALE:GREGORIAN
METHOD:PUBLISH
X-ORIGINAL-URL:https://bungaycommunitysupport.org.uk
X-WR-CALDESC:Events for Bungay Community Support
REFRESH-INTERVAL;VALUE=DURATION:PT1H
X-Robots-Tag:noindex
X-PUBLISHED-TTL:PT1H
BEGIN:VTIMEZONE
TZID:Europe/London
BEGIN:DAYLIGHT
TZOFFSETFROM:+0000
TZOFFSETTO:+0100
TZNAME:BST
DTSTART:20270328T010000
END:DAYLIGHT
BEGIN:STANDARD
TZOFFSETFROM:+0100
TZOFFSETTO:+0000
TZNAME:GMT
DTSTART:20271031T010000
END:STANDARD
BEGIN:DAYLIGHT
TZOFFSETFROM:+0000
TZOFFSETTO:+0100
TZNAME:BST
DTSTART:20280326T010000
END:DAYLIGHT
BEGIN:STANDARD
TZOFFSETFROM:+0100
TZOFFSETTO:+0000
TZNAME:GMT
DTSTART:20281029T010000
END:STANDARD
BEGIN:DAYLIGHT
TZOFFSETFROM:+0000
TZOFFSETTO:+0100
TZNAME:BST
DTSTART:20290325T010000
END:DAYLIGHT
BEGIN:STANDARD
TZOFFSETFROM:+0100
TZOFFSETTO:+0000
TZNAME:GMT
DTSTART:20291028T010000
END:STANDARD
BEGIN:DAYLIGHT
TZOFFSETFROM:+0000
TZOFFSETTO:+0100
TZNAME:BST
DTSTART:20300331T010000
END:DAYLIGHT
BEGIN:STANDARD
TZOFFSETFROM:+0100
TZOFFSETTO:+0000
TZNAME:GMT
DTSTART:20301027T010000
END:STANDARD
END:VTIMEZONE
BEGIN:VEVENT
DTSTART;TZID=Europe/London:20280511T130000
DTEND;TZID=Europe/London:20280511T150000
DTSTAMP:20260423T113153
CREATED:20260205T104948Z
LAST-MODIFIED:20260205T104948Z
UID:10006309-1841662800-1841670000@bungaycommunitysupport.org.uk
SUMMARY:Games & Jigsaws
DESCRIPTION:
URL:https://bungaycommunitysupport.org.uk/event/games-jigsaws/2028-05-11
CATEGORIES:Events & Activities
END:VEVENT
BEGIN:VEVENT
DTSTART;TZID=Europe/London:20280523T110000
DTEND;TZID=Europe/London:20280523T120000
DTSTAMP:20260423T113153
CREATED:20250701T113058Z
LAST-MODIFIED:20250701T124156Z
UID:10003800-1842692400-1842696000@bungaycommunitysupport.org.uk
SUMMARY:Access Well-being walk
DESCRIPTION:Access Well-being walk with Jade Drinkwater
URL:https://bungaycommunitysupport.org.uk/event/access-well-being-walk/2028-05-23
CATEGORIES:Events & Activities
END:VEVENT
BEGIN:VEVENT
DTSTART;TZID=Europe/London:20280525T130000
DTEND;TZID=Europe/London:20280525T150000
DTSTAMP:20260423T113153
CREATED:20260205T105109Z
LAST-MODIFIED:20260205T105109Z
UID:10006427-1842872400-1842879600@bungaycommunitysupport.org.uk
SUMMARY:Games & Jigsaws
DESCRIPTION:
URL:https://bungaycommunitysupport.org.uk/event/games-jigsaws-2/2028-05-25
CATEGORIES:Events & Activities
END:VEVENT
BEGIN:VEVENT
DTSTART;TZID=Europe/London:20280608T130000
DTEND;TZID=Europe/London:20280608T150000
DTSTAMP:20260423T113153
CREATED:20260205T104948Z
LAST-MODIFIED:20260205T104948Z
UID:10006310-1844082000-1844089200@bungaycommunitysupport.org.uk
SUMMARY:Games & Jigsaws
DESCRIPTION:
URL:https://bungaycommunitysupport.org.uk/event/games-jigsaws/2028-06-08
CATEGORIES:Events & Activities
END:VEVENT
BEGIN:VEVENT
DTSTART;TZID=Europe/London:20280622T130000
DTEND;TZID=Europe/London:20280622T150000
DTSTAMP:20260423T113153
CREATED:20260205T105109Z
LAST-MODIFIED:20260205T105109Z
UID:10006428-1845291600-1845298800@bungaycommunitysupport.org.uk
SUMMARY:Games & Jigsaws
DESCRIPTION:
URL:https://bungaycommunitysupport.org.uk/event/games-jigsaws-2/2028-06-22
CATEGORIES:Events & Activities
END:VEVENT
BEGIN:VEVENT
DTSTART;TZID=Europe/London:20280627T110000
DTEND;TZID=Europe/London:20280627T120000
DTSTAMP:20260423T113153
CREATED:20250701T113058Z
LAST-MODIFIED:20250701T124156Z
UID:10003801-1845716400-1845720000@bungaycommunitysupport.org.uk
SUMMARY:Access Well-being walk
DESCRIPTION:Access Well-being walk with Jade Drinkwater
URL:https://bungaycommunitysupport.org.uk/event/access-well-being-walk/2028-06-27
CATEGORIES:Events & Activities
END:VEVENT
BEGIN:VEVENT
DTSTART;TZID=Europe/London:20280713T130000
DTEND;TZID=Europe/London:20280713T150000
DTSTAMP:20260423T113153
CREATED:20260205T104948Z
LAST-MODIFIED:20260205T104948Z
UID:10006311-1847106000-1847113200@bungaycommunitysupport.org.uk
SUMMARY:Games & Jigsaws
DESCRIPTION:
URL:https://bungaycommunitysupport.org.uk/event/games-jigsaws/2028-07-13
CATEGORIES:Events & Activities
END:VEVENT
BEGIN:VEVENT
DTSTART;TZID=Europe/London:20280725T110000
DTEND;TZID=Europe/London:20280725T120000
DTSTAMP:20260423T113153
CREATED:20250701T113058Z
LAST-MODIFIED:20250701T124156Z
UID:10003802-1848135600-1848139200@bungaycommunitysupport.org.uk
SUMMARY:Access Well-being walk
DESCRIPTION:Access Well-being walk with Jade Drinkwater
URL:https://bungaycommunitysupport.org.uk/event/access-well-being-walk/2028-07-25
CATEGORIES:Events & Activities
END:VEVENT
BEGIN:VEVENT
DTSTART;TZID=Europe/London:20280727T130000
DTEND;TZID=Europe/London:20280727T150000
DTSTAMP:20260423T113153
CREATED:20260205T105109Z
LAST-MODIFIED:20260205T105109Z
UID:10006429-1848315600-1848322800@bungaycommunitysupport.org.uk
SUMMARY:Games & Jigsaws
DESCRIPTION:
URL:https://bungaycommunitysupport.org.uk/event/games-jigsaws-2/2028-07-27
CATEGORIES:Events & Activities
END:VEVENT
BEGIN:VEVENT
DTSTART;TZID=Europe/London:20280810T130000
DTEND;TZID=Europe/London:20280810T150000
DTSTAMP:20260423T113153
CREATED:20260205T104948Z
LAST-MODIFIED:20260205T104948Z
UID:10006312-1849525200-1849532400@bungaycommunitysupport.org.uk
SUMMARY:Games & Jigsaws
DESCRIPTION:
URL:https://bungaycommunitysupport.org.uk/event/games-jigsaws/2028-08-10
CATEGORIES:Events & Activities
END:VEVENT
BEGIN:VEVENT
DTSTART;TZID=Europe/London:20280822T110000
DTEND;TZID=Europe/London:20280822T120000
DTSTAMP:20260423T113153
CREATED:20250701T113058Z
LAST-MODIFIED:20250701T124156Z
UID:10003803-1850554800-1850558400@bungaycommunitysupport.org.uk
SUMMARY:Access Well-being walk
DESCRIPTION:Access Well-being walk with Jade Drinkwater
URL:https://bungaycommunitysupport.org.uk/event/access-well-being-walk/2028-08-22
CATEGORIES:Events & Activities
END:VEVENT
BEGIN:VEVENT
DTSTART;TZID=Europe/London:20280824T130000
DTEND;TZID=Europe/London:20280824T150000
DTSTAMP:20260423T113153
CREATED:20260205T105109Z
LAST-MODIFIED:20260205T105109Z
UID:10006430-1850734800-1850742000@bungaycommunitysupport.org.uk
SUMMARY:Games & Jigsaws
DESCRIPTION:
URL:https://bungaycommunitysupport.org.uk/event/games-jigsaws-2/2028-08-24
CATEGORIES:Events & Activities
END:VEVENT
BEGIN:VEVENT
DTSTART;TZID=Europe/London:20280914T130000
DTEND;TZID=Europe/London:20280914T150000
DTSTAMP:20260423T113153
CREATED:20260205T104948Z
LAST-MODIFIED:20260205T104948Z
UID:10006313-1852549200-1852556400@bungaycommunitysupport.org.uk
SUMMARY:Games & Jigsaws
DESCRIPTION:
URL:https://bungaycommunitysupport.org.uk/event/games-jigsaws/2028-09-14
CATEGORIES:Events & Activities
END:VEVENT
BEGIN:VEVENT
DTSTART;TZID=Europe/London:20280926T110000
DTEND;TZID=Europe/London:20280926T120000
DTSTAMP:20260423T113153
CREATED:20250701T113058Z
LAST-MODIFIED:20250701T124156Z
UID:10003804-1853578800-1853582400@bungaycommunitysupport.org.uk
SUMMARY:Access Well-being walk
DESCRIPTION:Access Well-being walk with Jade Drinkwater
URL:https://bungaycommunitysupport.org.uk/event/access-well-being-walk/2028-09-26
CATEGORIES:Events & Activities
END:VEVENT
BEGIN:VEVENT
DTSTART;TZID=Europe/London:20280928T130000
DTEND;TZID=Europe/London:20280928T150000
DTSTAMP:20260423T113153
CREATED:20260205T105109Z
LAST-MODIFIED:20260205T105109Z
UID:10006431-1853758800-1853766000@bungaycommunitysupport.org.uk
SUMMARY:Games & Jigsaws
DESCRIPTION:
URL:https://bungaycommunitysupport.org.uk/event/games-jigsaws-2/2028-09-28
CATEGORIES:Events & Activities
END:VEVENT
BEGIN:VEVENT
DTSTART;TZID=Europe/London:20281012T130000
DTEND;TZID=Europe/London:20281012T150000
DTSTAMP:20260423T113153
CREATED:20260205T104948Z
LAST-MODIFIED:20260205T104948Z
UID:10006314-1854968400-1854975600@bungaycommunitysupport.org.uk
SUMMARY:Games & Jigsaws
DESCRIPTION:
URL:https://bungaycommunitysupport.org.uk/event/games-jigsaws/2028-10-12
CATEGORIES:Events & Activities
END:VEVENT
BEGIN:VEVENT
DTSTART;TZID=Europe/London:20281024T110000
DTEND;TZID=Europe/London:20281024T120000
DTSTAMP:20260423T113153
CREATED:20250701T113058Z
LAST-MODIFIED:20250701T124156Z
UID:10003805-1855998000-1856001600@bungaycommunitysupport.org.uk
SUMMARY:Access Well-being walk
DESCRIPTION:Access Well-being walk with Jade Drinkwater
URL:https://bungaycommunitysupport.org.uk/event/access-well-being-walk/2028-10-24
CATEGORIES:Events & Activities
END:VEVENT
BEGIN:VEVENT
DTSTART;TZID=Europe/London:20281026T130000
DTEND;TZID=Europe/London:20281026T150000
DTSTAMP:20260423T113153
CREATED:20260205T105109Z
LAST-MODIFIED:20260205T105109Z
UID:10006432-1856178000-1856185200@bungaycommunitysupport.org.uk
SUMMARY:Games & Jigsaws
DESCRIPTION:
URL:https://bungaycommunitysupport.org.uk/event/games-jigsaws-2/2028-10-26
CATEGORIES:Events & Activities
END:VEVENT
BEGIN:VEVENT
DTSTART;TZID=Europe/London:20281109T130000
DTEND;TZID=Europe/London:20281109T150000
DTSTAMP:20260423T113153
CREATED:20260205T104948Z
LAST-MODIFIED:20260205T104948Z
UID:10006315-1857387600-1857394800@bungaycommunitysupport.org.uk
SUMMARY:Games & Jigsaws
DESCRIPTION:
URL:https://bungaycommunitysupport.org.uk/event/games-jigsaws/2028-11-09
CATEGORIES:Events & Activities
END:VEVENT
BEGIN:VEVENT
DTSTART;TZID=Europe/London:20281123T130000
DTEND;TZID=Europe/London:20281123T150000
DTSTAMP:20260423T113153
CREATED:20260205T105109Z
LAST-MODIFIED:20260205T105109Z
UID:10006433-1858597200-1858604400@bungaycommunitysupport.org.uk
SUMMARY:Games & Jigsaws
DESCRIPTION:
URL:https://bungaycommunitysupport.org.uk/event/games-jigsaws-2/2028-11-23
CATEGORIES:Events & Activities
END:VEVENT
BEGIN:VEVENT
DTSTART;TZID=Europe/London:20281128T110000
DTEND;TZID=Europe/London:20281128T120000
DTSTAMP:20260423T113153
CREATED:20250701T113058Z
LAST-MODIFIED:20250701T124156Z
UID:10003806-1859022000-1859025600@bungaycommunitysupport.org.uk
SUMMARY:Access Well-being walk
DESCRIPTION:Access Well-being walk with Jade Drinkwater
URL:https://bungaycommunitysupport.org.uk/event/access-well-being-walk/2028-11-28
CATEGORIES:Events & Activities
END:VEVENT
BEGIN:VEVENT
DTSTART;TZID=Europe/London:20281214T130000
DTEND;TZID=Europe/London:20281214T150000
DTSTAMP:20260423T113153
CREATED:20260205T104948Z
LAST-MODIFIED:20260205T104948Z
UID:10006316-1860411600-1860418800@bungaycommunitysupport.org.uk
SUMMARY:Games & Jigsaws
DESCRIPTION:
URL:https://bungaycommunitysupport.org.uk/event/games-jigsaws/2028-12-14
CATEGORIES:Events & Activities
END:VEVENT
BEGIN:VEVENT
DTSTART;TZID=Europe/London:20281226T110000
DTEND;TZID=Europe/London:20281226T120000
DTSTAMP:20260423T113153
CREATED:20250701T113058Z
LAST-MODIFIED:20250701T124156Z
UID:10003807-1861441200-1861444800@bungaycommunitysupport.org.uk
SUMMARY:Access Well-being walk
DESCRIPTION:Access Well-being walk with Jade Drinkwater
URL:https://bungaycommunitysupport.org.uk/event/access-well-being-walk/2028-12-26
CATEGORIES:Events & Activities
END:VEVENT
BEGIN:VEVENT
DTSTART;TZID=Europe/London:20281228T130000
DTEND;TZID=Europe/London:20281228T150000
DTSTAMP:20260423T113153
CREATED:20260205T105109Z
LAST-MODIFIED:20260205T105109Z
UID:10006434-1861621200-1861628400@bungaycommunitysupport.org.uk
SUMMARY:Games & Jigsaws
DESCRIPTION:
URL:https://bungaycommunitysupport.org.uk/event/games-jigsaws-2/2028-12-28
CATEGORIES:Events & Activities
END:VEVENT
BEGIN:VEVENT
DTSTART;TZID=Europe/London:20290111T130000
DTEND;TZID=Europe/London:20290111T150000
DTSTAMP:20260423T113153
CREATED:20260205T104948Z
LAST-MODIFIED:20260205T104948Z
UID:10006317-1862830800-1862838000@bungaycommunitysupport.org.uk
SUMMARY:Games & Jigsaws
DESCRIPTION:
URL:https://bungaycommunitysupport.org.uk/event/games-jigsaws/2029-01-11
CATEGORIES:Events & Activities
END:VEVENT
BEGIN:VEVENT
DTSTART;TZID=Europe/London:20290123T110000
DTEND;TZID=Europe/London:20290123T120000
DTSTAMP:20260423T113153
CREATED:20250701T113058Z
LAST-MODIFIED:20250701T124156Z
UID:10003808-1863860400-1863864000@bungaycommunitysupport.org.uk
SUMMARY:Access Well-being walk
DESCRIPTION:Access Well-being walk with Jade Drinkwater
URL:https://bungaycommunitysupport.org.uk/event/access-well-being-walk/2029-01-23
CATEGORIES:Events & Activities
END:VEVENT
BEGIN:VEVENT
DTSTART;TZID=Europe/London:20290125T130000
DTEND;TZID=Europe/London:20290125T150000
DTSTAMP:20260423T113153
CREATED:20260205T105109Z
LAST-MODIFIED:20260205T105109Z
UID:10006435-1864040400-1864047600@bungaycommunitysupport.org.uk
SUMMARY:Games & Jigsaws
DESCRIPTION:
URL:https://bungaycommunitysupport.org.uk/event/games-jigsaws-2/2029-01-25
CATEGORIES:Events & Activities
END:VEVENT
BEGIN:VEVENT
DTSTART;TZID=Europe/London:20290208T130000
DTEND;TZID=Europe/London:20290208T150000
DTSTAMP:20260423T113153
CREATED:20260205T104948Z
LAST-MODIFIED:20260205T104948Z
UID:10006318-1865250000-1865257200@bungaycommunitysupport.org.uk
SUMMARY:Games & Jigsaws
DESCRIPTION:
URL:https://bungaycommunitysupport.org.uk/event/games-jigsaws/2029-02-08
CATEGORIES:Events & Activities
END:VEVENT
BEGIN:VEVENT
DTSTART;TZID=Europe/London:20290222T130000
DTEND;TZID=Europe/London:20290222T150000
DTSTAMP:20260423T113153
CREATED:20260205T105109Z
LAST-MODIFIED:20260205T105109Z
UID:10006436-1866459600-1866466800@bungaycommunitysupport.org.uk
SUMMARY:Games & Jigsaws
DESCRIPTION:
URL:https://bungaycommunitysupport.org.uk/event/games-jigsaws-2/2029-02-22
CATEGORIES:Events & Activities
END:VEVENT
BEGIN:VEVENT
DTSTART;TZID=Europe/London:20290227T110000
DTEND;TZID=Europe/London:20290227T120000
DTSTAMP:20260423T113153
CREATED:20250701T113058Z
LAST-MODIFIED:20250701T124156Z
UID:10003809-1866884400-1866888000@bungaycommunitysupport.org.uk
SUMMARY:Access Well-being walk
DESCRIPTION:Access Well-being walk with Jade Drinkwater
URL:https://bungaycommunitysupport.org.uk/event/access-well-being-walk/2029-02-27
CATEGORIES:Events & Activities
END:VEVENT
END:VCALENDAR